BEGIN:VCALENDAR
VERSION:2.0
PRODID:-//ABATUS VermögensManagement - ECPv6.15.20//NONSGML v1.0//EN
CALSCALE:GREGORIAN
METHOD:PUBLISH
X-WR-CALNAME:ABATUS VermögensManagement
X-ORIGINAL-URL:https://www.abatus-beratung.com
X-WR-CALDESC:Veranstaltungen für ABATUS VermögensManagement
REFRESH-INTERVAL;VALUE=DURATION:PT1H
X-Robots-Tag:noindex
X-PUBLISHED-TTL:PT1H
BEGIN:VTIMEZONE
TZID:UTC
BEGIN:STANDARD
TZOFFSETFROM:+0000
TZOFFSETTO:+0000
TZNAME:UTC
DTSTART:20220101T000000
END:STANDARD
END:VTIMEZONE
BEGIN:VEVENT
DTSTART;TZID=UTC:20231016T190000
DTEND;TZID=UTC:20231016T200000
DTSTAMP:20260421T121835
CREATED:20230509T080331Z
LAST-MODIFIED:20231025T055308Z
UID:21673-1697482800-1697486400@www.abatus-beratung.com
SUMMARY:Finanzprodukte und deren Besteuerung - Kann ich die Steuern ganz vermeiden oder erheblich reduzieren?
DESCRIPTION:Am Montag\, den 16. Oktober 2023 um 19:00 Uhr – online via Zoom \nDie Veranstaltung dauert bis circa 20:00 Uhr. \nInhalt des Webinars \nSteuern zu sparen ist nicht immer der Königsweg. Einem Politikerzitat nach ist bei den Deutschen der Steuerspartrieb stärker ausgeprägt als der Fortpflanzungstrieb. Folgendermaßen schalten viele Anleger bei „Steuern sparen“ schlagartig den Verstand aus – mit einer Reihe Risiken und Nebenwirkungen. \nIn diesem Webinar erhalten Sie Informationen zu Hintergründen der steuerlichen Unterschiede von Kapitalanlagen und oft unbekannten Lösungen der Steuerersparnis. \nWie kann ich als Kapitalanleger in meinem Depot Steuerzahlungen minimieren oder sogar auf null reduzieren? \nUnd wie kann ich meine Gewinne und das Vermögen vor Erbschaft- und Schenkung- und Abgeltungsteuer schützen oder vorzeitig an Kinder und Enkelkinder steuerbegünstigt übertragen oder im Todesfall vererben? \nWas vielen Anlegern nicht bewusst ist\, dass es neben abgeltungsteuerpflichtigen auch abgeltungsteuerfreie Möglichkeiten der Kapitalanlage als auch der Vererbung und Schenkung gibt. \nWichtig ist dennoch\, dabei kostspielige Fehler zu vermeiden. \n\n\n\n\n\n\n\n\n  \n    \n      \n        \n          \n        \n        \n                          Ihre Anmeldung konnte nicht gespeichert werden. Bitte versuchen Sie es erneut.\n                      \n      \n    \n    \n    \n      \n        \n          \n        \n        \n                          Vielen Dank. Wir haben Ihnen eine Bestätigungs-Email an die angegebene Adresse geschickt. Bitte bestätigen Sie Ihre Anmeldung mit dem Link in der E-Mail.\n                      \n      \n    \n    \n    \n      \n        \n          \n            Webinar-Anmeldung: \n          \n        \n        \n          \n            \n          \n        \n        \n          \n            \n              Melden Sie sich für unser Webinar an. Der Link zum Zoom-Webinarraum wird vor der Veranstaltung versendet. \n            \n          \n        \n        \n          \n            \n              \n\n                \n                  \n                \n              \n\n              \n              \n            \n          \n        \n        \n          \n            \n              \n\n                \n                  \n                \n              \n\n              \n              \n            \n          \n        \n        \n          \n            \n              \n\n                \n                  \n                \n              \n\n              \n              \n            \n          \n        \n        \n          \n            \n              \n                Wählen Sie die Webinare aus\, für die Sie sich anmelden möchten.\n                \n                  \n                    \n                      \n                      12.10.2023 19:00 Uhr Testament und Nachlass regeln - Familie entlasten - Erbschaft optimieren \n                  \n                  \n                    \n                      \n                      16.10.2023 19:00 Uhr Finanzprodukte und deren Besteuerung \n                  \n                  \n                    \n                      \n                      Ab November: Interesse am Workshop zur Finanzplanung \n                  \n                \n              \n              \n              \n            \n          \n        \n        \n          \n            \n              \n                \n                  \n                    \n                    Ich möchte mich zum Webinar anmelden und akzeptiere die Datenschutzerklärung.  \n                \n              \n              \n              \n            \n          \n        \n        \n          \n            \n              \n                \n                  \n                    \n                  \n                \n              \n              \n                \n              \n            \n            \n              Wir verwenden Brevo als unsere Marketing-Plattform. Wenn Sie das Formular ausfüllen und absenden\, bestätigen Sie\, dass die von Ihnen angegebenen Informationen an Brevo zur Bearbeitung gemäß den Nutzungsbedingungen übertragen werden.\n             \n          \n        \n        \n          \n            \n              \n                \n              \n              ANMELDEN
URL:https://www.abatus-beratung.com/event/finanzprodukte-und-deren-besteuerung-kann-ich-die-steuern-ganz-vermeiden-oder-erheblich-reduzieren/
LOCATION:Webinar via Zoom\, Germany
CATEGORIES:Vergangene Veranstaltungen
ATTACH;FMTTYPE=image/jpeg:https://www.abatus-beratung.com/wp-content/uploads/2020/07/Vortragsbild.jpg
ORGANIZER;CN="ABATUS Verm%C3%B6gensManagement GmbH & Co. KG":MAILTO:service@abatus-beratung.com
END:VEVENT
BEGIN:VEVENT
DTSTART;TZID=UTC:20231012T190000
DTEND;TZID=UTC:20231012T200000
DTSTAMP:20260421T121835
CREATED:20230301T074814Z
LAST-MODIFIED:20231013T081759Z
UID:21670-1697137200-1697140800@www.abatus-beratung.com
SUMMARY:Testament und Nachlass regeln - Familie entlasten - Erbschaft optimieren
DESCRIPTION:Am Donnerstag\, den 12. Oktober 2023 um 19:00 Uhr – online via Zoom \nDie Veranstaltung dauert bis circa 20:00 Uhr. \nInhalt des Webinars \nWann ist der beste Zeitpunkt\, seinen Nachlass zu regeln?\nJetzt\, weil Sie nur so noch ausreichend Zeit haben um Streit und Stress bei\nIhren Erben zu vermeiden. \nHinterlassen Sie Ordnung statt Chaos\, gerechte Verteilung statt Unmut\, Steueroptimierung statt Steuerlast. \nIm Bereich Erbrecht gibt es viele Irrtümer.\nBeispielsweise\,\n• Ehepartner erben automatisch alles\n• Lebensgefährten gehören zum Kreis der Erben\n• Uneheliche Kinder bekommen nichts vom Nachlass\n• Familienangehörige können willkürlich enterbt werden\n• Wird eine Erbschaft ausgeschlagen\, muss die Beerdigung nicht bezahlt werden\n• Lebzeitige Vermögensübertragung macht keinen Sinn \nIn unserem 60-minütigen Live-Webinar mit Fragerunde klären wir über die größten Irrtümer zum Thema Erben und Nachlassgestaltung auf. Zudem erfahren Sie\, warum ein Testament sinnvoll ist und wie Sie es erstellen können. \nAus Gründen des Datenschutzes richten wir das Webinar so ein\, dass sich die Teilnehmer nicht gegenseitig identifizieren können. \n\n\n\n\n\n\n\n\n  \n    \n      \n        \n          \n        \n        \n                          Ihre Anmeldung konnte nicht gespeichert werden. Bitte versuchen Sie es erneut.\n                      \n      \n    \n    \n    \n      \n        \n          \n        \n        \n                          Vielen Dank. Wir haben Ihnen eine Bestätigungs-Email an die angegebene Adresse geschickt. Bitte bestätigen Sie Ihre Anmeldung mit dem Link in der E-Mail.\n                      \n      \n    \n    \n    \n      \n        \n          \n            Webinar-Anmeldung: \n          \n        \n        \n          \n            \n          \n        \n        \n          \n            \n              Melden Sie sich für unser Webinar an. Der Link zum Zoom-Webinarraum wird vor der Veranstaltung versendet. \n            \n          \n        \n        \n          \n            \n              \n\n                \n                  \n                \n              \n\n              \n              \n            \n          \n        \n        \n          \n            \n              \n\n                \n                  \n                \n              \n\n              \n              \n            \n          \n        \n        \n          \n            \n              \n\n                \n                  \n                \n              \n\n              \n              \n            \n          \n        \n        \n          \n            \n              \n                Wählen Sie die Webinare aus\, für die Sie sich anmelden möchten.\n                \n                  \n                    \n                      \n                      12.10.2023 19:00 Uhr Testament und Nachlass regeln - Familie entlasten - Erbschaft optimieren \n                  \n                  \n                    \n                      \n                      16.10.2023 19:00 Uhr Finanzprodukte und deren Besteuerung \n                  \n                  \n                    \n                      \n                      Ab November: Interesse am Workshop zur Finanzplanung \n                  \n                \n              \n              \n              \n            \n          \n        \n        \n          \n            \n              \n                \n                  \n                    \n                    Ich möchte mich zum Webinar anmelden und akzeptiere die Datenschutzerklärung.  \n                \n              \n              \n              \n            \n          \n        \n        \n          \n            \n              \n                \n                  \n                    \n                  \n                \n              \n              \n                \n              \n            \n            \n              Wir verwenden Brevo als unsere Marketing-Plattform. Wenn Sie das Formular ausfüllen und absenden\, bestätigen Sie\, dass die von Ihnen angegebenen Informationen an Brevo zur Bearbeitung gemäß den Nutzungsbedingungen übertragen werden.\n             \n          \n        \n        \n          \n            \n              \n                \n              \n              ANMELDEN
URL:https://www.abatus-beratung.com/event/vollmachten-testament-und-24-stunden-notfallhilfe/
LOCATION:Webinar via Zoom\, Germany
CATEGORIES:Vergangene Veranstaltungen
ATTACH;FMTTYPE=image/jpeg:https://www.abatus-beratung.com/wp-content/uploads/2023/03/PPT_Gestaltung_20230816-scaled.jpg
ORGANIZER;CN="ABATUS Verm%C3%B6gensManagement GmbH & Co. KG":MAILTO:service@abatus-beratung.com
END:VEVENT
BEGIN:VEVENT
DTSTART;TZID=UTC:20230508T190000
DTEND;TZID=UTC:20230508T200000
DTSTAMP:20260421T121835
CREATED:20230223T143926Z
LAST-MODIFIED:20230706T134532Z
UID:21582-1683572400-1683576000@www.abatus-beratung.com
SUMMARY:Finanzplanung - der Weg zur finanziellen Unabhängigkeit
DESCRIPTION:Am Montag\, den 08. Mai 2023 um 19:00 Uhr – online via Zoom \nDie Veranstaltung dauert bis circa 20:00 Uhr. \nInhalt des Webinars \nWir laden Dich herzlich zu unserem Webinar über Finanzplanung ein. In diesem Webinar werden wir uns mit verschiedenen Aspekten der Finanzplanung befassen\, die Dir helfen werden\, Deine finanzielle Zukunft zu gestalten. \nUnsere Experten werden dir Einblicke in die Bedeutung der Finanzplanung geben\, die verschiedenen Schritte erläutern\, die Du bei der Erstellung deines Finanzplans berücksichtigen solltest\, und dir Tipps und Tricks geben\, wie du deine finanziellen Ziele erreichen kannst. \nWir werden uns auch mit verschiedenen Themen wie Altersvorsorge\, Geldanlage und Kapitalversicherungen beschäftigen. Am Ende des Webinars wirst Du in der Lage sein\, Dir einen guten Überblick über Deine Finanzen zu schaffen und weißt\, worauf es bei der Finanzplanung ankommt. \nUnser Webinar ist für alle gedacht\, die ihre finanzielle Zukunft in die Hand nehmen wollen. Wir freuen uns darauf\, Dich bei unserem Webinar begrüßen zu dürfen! \nAus Gründen des Datenschutzes richten wir das Webinar so ein\, dass sich die Teilnehmer nicht gegenseitig identifizieren können. \n\n\n\n\n\n\n\n\n  \n    \n      \n        \n          \n            Webinar-Anmeldung: \n          \n        \n        \n          \n            \n          \n        \n        \n          \n            \n              Melden Sie sich für unser Webinar an. Der Link zum Zoom-Webinarraum wird vor der Veranstaltung versendet. \n            \n          \n        \n        \n          \n            \n              \n\n                \n                  \n                \n              \n\n              \n              \n            \n          \n        \n        \n          \n            \n              \n\n                \n                  \n                \n              \n\n              \n              \n            \n          \n        \n        \n          \n            \n              \n\n                \n                  \n                \n              \n\n              \n              \n            \n          \n        \n        \n          \n            \n              \n                Wählen Sie die Webinare aus\, für die Sie sich anmelden möchten.\n                \n                  \n                    \n                      \n                      08.05.23 19:00 Uhr - Finanzplanung Grundlagen \n                  \n                  \n                    \n                      \n                      26.09.23 19:00 Uhr - Finanzprodukte und deren Besteuerung \n                  \n                  \n                    \n                      \n                      12.10.23 19:00 Uhr - Vollmachten\, Testament und 24-Stunden-Notfallhilfe \n                  \n                  \n                    \n                      \n                      ab November: Interesse am Workshop: Finanzplanung für Privatpersonen \n                  \n                \n              \n              \n              \n            \n          \n        \n        \n          \n            \n              \n                \n                  \n                    \n                    Ich möchte mich zum Webinar anmelden und akzeptiere die Datenschutzerklärung.  \n                \n              \n              \n              \n            \n          \n        \n        \n          \n            \n              \n                \n                  \n                    \n                  \n                \n              \n              \n                \n              \n            \n            \n              Wir verwenden Sendinblue als unsere Marketing-Plattform. Wenn Sie das Formular ausfüllen und absenden\, bestätigen Sie\, dass die von Ihnen angegebenen Informationen an Sendinblue zur Bearbeitung gemäß den Nutzungsbedingungen übertragen werden.\n             \n          \n\n        \n        \n          \n            \n              \n                \n              \n              ANMELDEN
URL:https://www.abatus-beratung.com/event/finanzplanung-der-weg-zur-finanziellen-unabhaengigkeit/
LOCATION:Webinar via Zoom\, Germany
CATEGORIES:Vergangene Veranstaltungen,Webinar
ATTACH;FMTTYPE=image/jpeg:https://www.abatus-beratung.com/wp-content/uploads/2023/02/analytics-3291738-scaled.jpg
ORGANIZER;CN="ABATUS Verm%C3%B6gensManagement GmbH & Co. KG":MAILTO:service@abatus-beratung.com
END:VEVENT
BEGIN:VEVENT
DTSTART;TZID=UTC:20230405T190000
DTEND;TZID=UTC:20230405T200000
DTSTAMP:20260421T121835
CREATED:20230224T094850Z
LAST-MODIFIED:20230706T134525Z
UID:21580-1680721200-1680724800@www.abatus-beratung.com
SUMMARY:Die Wissenschaft des Investierens
DESCRIPTION:Am Mittwoch\, dem 05. April 2023 um 19:00 Uhr – online via Zoom \nDie Veranstaltung dauert bis circa 20:00 Uhr. \nInhalt des Webinars \nDie Wissenschaft des Investierens beruht auf den Erkenntnissen der Finanz- und Kapitalmarktforschung. \nDie Wissenschaft hat in den vergangenen Jahrzehnten\, unzählige Daten\, Fakten\, Forschungen und Theorien hervorgebracht. Einige davon wurden mit Wirtschafts-Nobelpreisen ausgezeichnet. \nAll diese Erkenntnisse und Nobelpreise können Sie als Anleger und Investor nutzen\, um die Renditen zu optimieren und Risiken zu reduzieren. \nDiese wissenschaftlichen Erkenntnisse werden von fast allen Finanzakteuren ignoriert. \nDie Wissenschaft ist sich einig\, dass es keine zuverlässige Möglichkeit gibt\, den Markt konstant zu schlagen. \nDieses widerlegte Versprechen kostet Sie erhebliche Renditen. \nWissenschaftlich-basierte Anlagestrategien\, kostengünstig und effizient genutzt\, steigern nachweislich die Rendite. \nWie Sie diese wissenschaftlichen Erkenntnisse für Ihre eigenen Finanzen nutzen können\, erfahren Sie in diesem Seminar. \nAus Gründen des Datenschutzes richten wir das Webinar so ein\, dass sich die Teilnehmer nicht gegenseitig identifizieren können. \n\n\n\n\n\n\n\n\n  \n    \n      \n        \n          \n            Webinar-Anmeldung: \n          \n        \n        \n          \n            \n          \n        \n        \n          \n            \n              Melden Sie sich für unser Webinar an. Der Link zum Zoom-Webinarraum wird vor der Veranstaltung versendet. \n            \n          \n        \n        \n          \n            \n              \n\n                \n                  \n                \n              \n\n              \n              \n            \n          \n        \n        \n          \n            \n              \n\n                \n                  \n                \n              \n\n              \n              \n            \n          \n        \n        \n          \n            \n              \n\n                \n                  \n                \n              \n\n              \n              \n            \n          \n        \n        \n          \n            \n              \n                Wählen Sie die Webinare aus\, für die Sie sich anmelden möchten.\n                \n                  \n                    \n                      \n                      05.04.23 19:00 Uhr - Wissenschaft des Investierens \n                  \n                  \n                    \n                      \n                      08.05.23 19:00 Uhr - Finanzplanung Grundlagen \n                  \n                  \n                    \n                      \n                      26.09.23 19:00 Uhr - Finanzprodukte und deren Besteuerung \n                  \n                  \n                    \n                      \n                      12.10.23 19:00 Uhr - Vollmachten\, Testament und 24-Stunden-Notfallhilfe \n                  \n                  \n                    \n                      \n                      ab November: Interesse am Workshop: Finanzplanung für Privatpersonen \n                  \n                \n              \n              \n              \n            \n          \n        \n        \n          \n            \n              \n                \n                  \n                    \n                    Ich möchte mich zum Webinar anmelden und akzeptiere die Datenschutzerklärung.  \n                \n              \n              \n              \n            \n          \n        \n        \n          \n            \n              \n                \n                  \n                    \n                  \n                \n              \n              \n                \n              \n            \n            \n              Wir verwenden Sendinblue als unsere Marketing-Plattform. Wenn Sie das Formular ausfüllen und absenden\, bestätigen Sie\, dass die von Ihnen angegebenen Informationen an Sendinblue zur Bearbeitung gemäß den Nutzungsbedingungen übertragen werden.\n             \n          \n\n        \n        \n          \n            \n              \n                \n              \n              ANMELDEN
URL:https://www.abatus-beratung.com/event/die-wissenschaft-des-investierens/
LOCATION:Webinar via Zoom\, Germany
CATEGORIES:Vergangene Veranstaltungen,Webinar
ATTACH;FMTTYPE=image/jpeg:https://www.abatus-beratung.com/wp-content/uploads/2023/02/money-2724241-scaled.jpg
ORGANIZER;CN="ABATUS Verm%C3%B6gensManagement GmbH & Co. KG":MAILTO:service@abatus-beratung.com
END:VEVENT
BEGIN:VEVENT
DTSTART;TZID=UTC:20230315T190000
DTEND;TZID=UTC:20230315T200000
DTSTAMP:20260421T121835
CREATED:20200708T111625Z
LAST-MODIFIED:20230706T134518Z
UID:920-1678906800-1678910400@www.abatus-beratung.com
SUMMARY:Keine Angst vor Geld
DESCRIPTION:Am Mittwoch\, den 15. März 2023 um 19:00 Uhr – online via Zoom \nDie Veranstaltung dauert bis circa 20:00 Uhr. \nInhalt des Webinars \nMit herkömmlichen Spar-\, aber auch den meisten Anlageprodukten wirst Du dich auf Dauer arm sparen oder dein Vermögen durch Inflation „verbrennen“. Neben hohen Kosten und geringen Ertragsaussichten haben risikoreiche Kapitalanlagen den Beigeschmack\, dass diese viele von uns und auch Dich eher nervös machen. \nDas muss nicht so sein. \nGerade im Hinblick auf Geldanlagen ist es so\, dass es nicht nur Schwarz oder Weiß\, sondern neben schlechten auch gute und sinnvolle Möglichkeiten für jeden Anleger gibt. \nAnstatt Dir also Sorgen um Dein Geld zu machen oder deine Energie damit zu verschwenden\, im Nachhinein der Geldanlage\, dem Produkt oder dem Berater die Schuld für falsche Entscheidungen zu geben\, solltest Du akzeptieren\, dass jeder die Verantwortung für sein Geld selber trägt. \nNehme Deine Finanzbildung selbst in die Hand\, Vater Staat wird es kaum für uns tun. Und nicht jeder sagt Dir die Wahrheit\, was wirklich wichtig und richtig bei der Geldanlage ist. \nVerstehst Du deine Geldanlage nicht und verlässt Du dich ungeprüft auf andere\, wirst Du immer wieder dieselben Fehler machen. Möglicherweise gibst Du dann auf\, dein Geld sinnvoll anzulegen\, überlässt resigniert deine Ersparnisse im blinden Vertrauen der Bank oder Versicherung und die Inflation entwertet es dann von Jahr zu Jahr. \nHier erhältst Du nicht nur das nötige Basis-Wissen\, sondern neben nobelpreisgekrönten Erkenntnissen auch wichtige Warnungen vor den größten Anlagefehlern\, welche deinen finanziellen Erfolg verhindern. \nAls Teilnehmer weißt Du nach diesem Abend\, wie Renditen entstehen\, wie Geld für dich „arbeiten“ kann\, und wie Du souverän und weniger ängstlich mit deinem Geld umgehen kannst. \nAkademisches Finanzwissen gibt nicht nur ein gutes Gefühl\, sondern auch mehr Gelassenheit – Dein Geld wird es dir danken. \nAus Gründen des Datenschutzes richten wir das Webinar so ein\, dass sich die Teilnehmer nicht gegenseitig identifizieren können. \n\n\n\n\n\n\n\n\n  \n    \n      \n        \n          \n            Webinar-Anmeldung: \n          \n        \n        \n          \n            \n          \n        \n        \n          \n            \n              Melden Sie sich für unser Webinar an. Der Link zum Zoom-Webinarraum wird vor der Veranstaltung versendet. \n            \n          \n        \n        \n          \n            \n              \n\n                \n                  \n                \n              \n\n              \n              \n            \n          \n        \n        \n          \n            \n              \n\n                \n                  \n                \n              \n\n              \n              \n            \n          \n        \n        \n          \n            \n              \n\n                \n                  \n                \n              \n\n              \n              \n            \n          \n        \n        \n          \n            \n              \n                Wählen Sie die Webinare aus\, für die Sie sich anmelden möchten.\n                \n                  \n                    \n                      \n                      15.03.23 19:00 Uhr - Keine Angst vor Geld \n                  \n                  \n                    \n                      \n                      05.04.23 19:00 Uhr - Wissenschaft des Investierens \n                  \n                  \n                    \n                      \n                      08.05.23 19:00 Uhr - Finanzplanung Grundlagen \n                  \n                  \n                    \n                      \n                      26.09.23 19:00 Uhr - Finanzprodukte und deren Besteuerung \n                  \n                  \n                    \n                      \n                      12.10.23 19:00 Uhr - Vollmachten\, Testament und 24-Stunden-Notfallhilfe \n                  \n                  \n                    \n                      \n                      ab November: Interesse am Workshop: Finanzplanung für Privatpersonen \n                  \n                \n              \n              \n              \n            \n          \n        \n        \n          \n            \n              \n                \n                  \n                    \n                    Ich möchte mich zum Webinar anmelden und akzeptiere die Datenschutzerklärung.  \n                \n              \n              \n              \n            \n          \n        \n        \n          \n            \n              \n                \n                  \n                    \n                  \n                \n              \n              \n                \n              \n            \n            \n              Wir verwenden Sendinblue als unsere Marketing-Plattform. Wenn Sie das Formular ausfüllen und absenden\, bestätigen Sie\, dass die von Ihnen angegebenen Informationen an Sendinblue zur Bearbeitung gemäß den Nutzungsbedingungen übertragen werden.\n             \n          \n\n        \n        \n          \n            \n              \n                \n              \n              ANMELDEN
URL:https://www.abatus-beratung.com/event/keine-angst-vor-geld/
LOCATION:Webinar via Zoom\, Germany
CATEGORIES:Vergangene Veranstaltungen,Webinar
ATTACH;FMTTYPE=image/jpeg:https://www.abatus-beratung.com/wp-content/uploads/2020/07/Vortragsbild.jpg
ORGANIZER;CN="ABATUS Verm%C3%B6gensManagement GmbH & Co. KG":MAILTO:service@abatus-beratung.com
END:VEVENT
END:VCALENDAR